BEGIN:VCALENDAR
VERSION:2.0
PRODID:-//Tukios.com/
BEGIN:VEVENT
UID:b5459671-4590-4bff-8a27-a90fcca67559@www.murdochfuneralhome.com
DTSTAMP:20260421T040220Z
DTSTART:20260423T180000Z
DTEND:20260423T190000Z
SUMMARY:Visitation
DESCRIPTION:
URL:https://www.murdochfuneralhome.com/obituaries/barbara-campbell
LOCATION:Murdoch Funeral Home & Cremation Service 3855 Katz Drive  Marion 
	IA 52302
GEO:42.0352883;-91.571329
END:VEVENT
END:VCALENDAR