BEGIN:VCALENDAR
VERSION:2.0
PRODID:-//Tukios.com/
BEGIN:VEVENT
UID:bb4041ec-6129-4178-a297-26d42977eec6@www.murdochfuneralhome.com
DTSTAMP:20260421T040539Z
DTSTART:20260423T190000Z
DTEND:20260423T200000Z
SUMMARY:Memorial Service
DESCRIPTION:
URL:https://www.murdochfuneralhome.com/obituaries/barbara-campbell
LOCATION:Murdoch Funeral Home & Cremation Service 3855 Katz Drive  Marion 
	IA 52302
GEO:42.0352883;-91.571329
END:VEVENT
END:VCALENDAR