BEGIN:VCALENDAR
VERSION:2.0
PRODID:-//Tukios.com/
BEGIN:VEVENT
UID:985cce3e-7310-40db-906c-26e477b9a422@www.murdochfuneralhome.com
DTSTAMP:20260423T005707Z
DTSTART:20260428T150000Z
DTEND:20260428T160000Z
SUMMARY:Funeral Service
DESCRIPTION:
URL:https://www.murdochfuneralhome.com/obituaries/bonnie-evans
LOCATION:Marion Avenue Baptist Church 215 South Marion Avenue  Washington 
	IA 52353
GEO:41.2977043;-91.6935068
END:VEVENT
END:VCALENDAR