BEGIN:VCALENDAR
VERSION:2.0
PRODID:-//Tukios.com/
BEGIN:VEVENT
UID:d184d47f-08a3-42e6-b799-79aad45e8cd8@www.murdochfuneralhome.com
DTSTAMP:20260423T005745Z
DTSTART:20260428T140000Z
DTEND:20260428T150000Z
SUMMARY:Visitation
DESCRIPTION:
URL:https://www.murdochfuneralhome.com/obituaries/bonnie-evans
LOCATION:Marion Avenue Baptist Church 215 South Marion Avenue  Washington 
	IA 52353
GEO:41.2977043;-91.6935068
END:VEVENT
END:VCALENDAR