BEGIN:VCALENDAR
VERSION:2.0
PRODID:-//Tukios.com/
BEGIN:VEVENT
UID:277b0126-0f37-4c61-a1eb-aa998618e53e@www.murdochfuneralhome.com
DTSTAMP:20260423T010011Z
DTSTART:20260428T193000Z
DTEND:20260428T203000Z
SUMMARY:Burial
DESCRIPTION:
URL:https://www.murdochfuneralhome.com/obituaries/bonnie-evans
LOCATION:    Keokuk IA 52632
GEO:40.4044731;-91.3963966
END:VEVENT
END:VCALENDAR