BEGIN:VCALENDAR
VERSION:2.0
PRODID:-//Tukios.com/
BEGIN:VEVENT
UID:a2fd6fb6-7581-417e-89b8-41b8635f9a80@www.murdochfuneralhome.com
DTSTAMP:20260424T191556Z
DTSTART:20260504T210000Z
DTEND:20260505T000000Z
SUMMARY:Visitation
DESCRIPTION:
URL:https://www.murdochfuneralhome.com/obituaries/charles-chuck-schmidt
LOCATION:Murdoch Funeral Home 3855 Katz Drive  Marion IA 52302
GEO:42.0352883;-91.571329
END:VEVENT
END:VCALENDAR