BEGIN:VCALENDAR
VERSION:2.0
PRODID:-//Tukios.com/
BEGIN:VEVENT
UID:102ce31e-7334-457e-aa99-a7e768994388@www.murdochfuneralhome.com
DTSTAMP:20260424T191952Z
DTSTART:20260505T153000Z
DTEND:20260505T163000Z
SUMMARY:Funeral Service
DESCRIPTION:
URL:https://www.murdochfuneralhome.com/obituaries/charles-chuck-schmidt
LOCATION:St. Isidore Catholic Church 603 6th Ave  Springville IA 52336
GEO:42.0512355;-91.4450493
END:VEVENT
END:VCALENDAR