BEGIN:VCALENDAR
VERSION:2.0
PRODID:-//Tukios.com/
BEGIN:VEVENT
UID:285c82bb-9c33-4305-87d1-c54c0beeff48@www.murdochfuneralhome.com
DTSTAMP:20260425T004636Z
DTSTART:20260427T210000Z
DTEND:20260428T000000Z
SUMMARY:Visitation
DESCRIPTION:
URL:https://www.murdochfuneralhome.com/obituaries/edward-ed-stuessel
LOCATION:Murdoch Funeral Home & Cremation Service 3855 Katz Drive  Marion 
	IA 52302
GEO:42.0352883;-91.571329
END:VEVENT
END:VCALENDAR