BEGIN:VCALENDAR
VERSION:2.0
PRODID:-//Tukios.com/
BEGIN:VEVENT
UID:dadb76bc-1234-4a67-a514-c4d0335026b6@www.murdochfuneralhome.com
DTSTAMP:20260425T004948Z
DTSTART:20260428T153000Z
DTEND:20260428T163000Z
SUMMARY:Memorial Service
DESCRIPTION:
URL:https://www.murdochfuneralhome.com/obituaries/edward-ed-stuessel
LOCATION:Murdoch Funeral Home & Cremation Service 3855 Katz Drive  Marion 
	IA 52302
GEO:42.0352883;-91.571329
END:VEVENT
END:VCALENDAR