BEGIN:VCALENDAR
VERSION:2.0
PRODID:-//Tukios.com/
BEGIN:VEVENT
UID:c081f6e7-c0d5-40b5-b71c-04741b8ac393@www.murdochfuneralhome.com
DTSTAMP:20260424T022225Z
DTSTART:20260523T153000Z
DTEND:20260523T163000Z
SUMMARY:Funeral Service
DESCRIPTION:
URL:https://www.murdochfuneralhome.com/obituaries/kathy-kimbrough
LOCATION:St. Pius X Catholic Church 4949 Council Street Northeast  Cedar 
	Rapids IA 52402
GEO:42.0279826;-91.6593948
END:VEVENT
END:VCALENDAR