BEGIN:VCALENDAR
VERSION:2.0
PRODID:-//Tukios.com/
BEGIN:VEVENT
UID:a931beb8-3e23-4831-9dbe-904659fb0bf4@www.murdochfuneralhome.com
DTSTAMP:20260423T233329Z
DTSTART:20260424T210000Z
DTEND:20260425T000000Z
SUMMARY:Visitation
DESCRIPTION:
URL:https://www.murdochfuneralhome.com/obituaries/marvin-rogers
LOCATION: 3855 Katz Dr  Marion IA 52302
GEO:42.0352883;-91.571329
END:VEVENT
END:VCALENDAR