BEGIN:VCALENDAR
VERSION:2.0
PRODID:-//Tukios.com/
BEGIN:VEVENT
UID:a18b76e5-b1bc-4c75-82c2-89aa31b8f77e@www.murdochfuneralhome.com
DTSTAMP:20260423T233012Z
DTSTART:20260425T160000Z
DTEND:20260425T163000Z
SUMMARY:Burial
DESCRIPTION:
URL:https://www.murdochfuneralhome.com/obituaries/marvin-rogers
LOCATION: 789 2nd Avenue  Marion IA 52302
GEO:42.0268232;-91.60264
END:VEVENT
END:VCALENDAR