BEGIN:VCALENDAR
VERSION:2.0
PRODID:-//Tukios.com/
BEGIN:VEVENT
UID:a876a142-7421-4432-8321-8c3556617119@www.murdochfuneralhome.com
DTSTAMP:20260423T233155Z
DTSTART:20260425T190000Z
DTEND:20260425T200000Z
SUMMARY:Memorial Service
DESCRIPTION:
URL:https://www.murdochfuneralhome.com/obituaries/marvin-rogers
LOCATION: 4420 Center Point Road Northeast  Cedar Rapids IA 52402
GEO:42.0239392;-91.6656943
END:VEVENT
END:VCALENDAR