BEGIN:VCALENDAR
VERSION:2.0
PRODID:-//Tukios.com/
BEGIN:VEVENT
UID:8bcc7313-71f8-43c0-85de-ca6b8450896b@www.murdochfuneralhome.com
DTSTAMP:20260422T210954Z
DTSTART:20260530T150000Z
DTEND:20260530T160000Z
SUMMARY:Visitation
DESCRIPTION:
URL:https://www.murdochfuneralhome.com/obituaries/sarah-johnson
LOCATION: 520 Wilson Ave SW  Cedar Rapids IA 52404
GEO:41.9564591;-91.6750243
END:VEVENT
END:VCALENDAR