BEGIN:VCALENDAR
VERSION:2.0
PRODID:-//Tukios.com/
BEGIN:VEVENT
UID:9f1e96b3-7c96-487c-9ffd-9896b5005954@www.murdochfuneralhome.com
DTSTAMP:20260422T210359Z
DTSTART:20260530T160000Z
DTEND:20260530T170000Z
SUMMARY:Celebration of Life
DESCRIPTION:
URL:https://www.murdochfuneralhome.com/obituaries/sarah-johnson
LOCATION:Murdoch-Linwood Funeral Home & Cremation Service 520 Wilson Ave 
	SW  Cedar Rapids IA 52404
GEO:41.9564591;-91.6750243
END:VEVENT
END:VCALENDAR